BEGIN:VCALENDAR
VERSION:2.0
PRODID:-//Food Bank of Northeast Georgia - ECPv6.15.20//NONSGML v1.0//EN
CALSCALE:GREGORIAN
METHOD:PUBLISH
X-WR-CALNAME:Food Bank of Northeast Georgia
X-ORIGINAL-URL:https://foodbanknega.org
X-WR-CALDESC:Events for Food Bank of Northeast Georgia
REFRESH-INTERVAL;VALUE=DURATION:PT1H
X-Robots-Tag:noindex
X-PUBLISHED-TTL:PT1H
BEGIN:VTIMEZONE
TZID:America/New_York
BEGIN:DAYLIGHT
TZOFFSETFROM:-0500
TZOFFSETTO:-0400
TZNAME:EDT
DTSTART:20240310T070000
END:DAYLIGHT
BEGIN:STANDARD
TZOFFSETFROM:-0400
TZOFFSETTO:-0500
TZNAME:EST
DTSTART:20241103T060000
END:STANDARD
BEGIN:DAYLIGHT
TZOFFSETFROM:-0500
TZOFFSETTO:-0400
TZNAME:EDT
DTSTART:20250309T070000
END:DAYLIGHT
BEGIN:STANDARD
TZOFFSETFROM:-0400
TZOFFSETTO:-0500
TZNAME:EST
DTSTART:20251102T060000
END:STANDARD
BEGIN:DAYLIGHT
TZOFFSETFROM:-0500
TZOFFSETTO:-0400
TZNAME:EDT
DTSTART:20260308T070000
END:DAYLIGHT
BEGIN:STANDARD
TZOFFSETFROM:-0400
TZOFFSETTO:-0500
TZNAME:EST
DTSTART:20261101T060000
END:STANDARD
BEGIN:DAYLIGHT
TZOFFSETFROM:-0500
TZOFFSETTO:-0400
TZNAME:EDT
DTSTART:20270314T070000
END:DAYLIGHT
BEGIN:STANDARD
TZOFFSETFROM:-0400
TZOFFSETTO:-0500
TZNAME:EST
DTSTART:20271107T060000
END:STANDARD
END:VTIMEZONE
BEGIN:VEVENT
DTSTART;TZID=America/New_York:20260212T113000
DTEND;TZID=America/New_York:20260212T130000
DTSTAMP:20260419T124042
CREATED:20251128T130012Z
LAST-MODIFIED:20251125T211119Z
UID:10000010-1770895800-1770901200@foodbanknega.org
SUMMARY:2026 Empty Bowl Fundraiser & Luncheon
DESCRIPTION:
URL:https://foodbanknega.org/event/empty-bowl/
LOCATION:GA
END:VEVENT
BEGIN:VEVENT
DTSTART;VALUE=DATE:20251001
DTEND;VALUE=DATE:20251101
DTSTAMP:20260419T124042
CREATED:20250116T171130Z
LAST-MODIFIED:20250916T135828Z
UID:10000007-1759276800-1761955199@foodbanknega.org
SUMMARY:Hunger Bowl 2025
DESCRIPTION:Hunker Down Against Hunger is the Food Bank of Northeast Georgia’s annual competitive fund and food drive. Teams of co-workers\, families\, classmates\, friends\, and neighbors across our 15-county service area compete to bring in the most donations to support the mission of the Food Bank: to connect our neighbors with nourishing food. \nTo learn more or register your team: Hunger Bowl – Food Bank of Northeast Georgia
URL:https://foodbanknega.org/event/hunger-bowl-2025/
LOCATION:Food Bank of Northeast Georgia\, 890 Newton Bridge Rd\, Athens\, GA\, 30601\, United States
END:VEVENT
BEGIN:VEVENT
DTSTART;TZID=America/New_York:20250920T090000
DTEND;TZID=America/New_York:20250920T230000
DTSTAMP:20260419T124042
CREATED:20250812T153907Z
LAST-MODIFIED:20250915T171505Z
UID:10000009-1758358800-1758409200@foodbanknega.org
SUMMARY:Family Day Fall 2025
DESCRIPTION:Join us September 20th for a Family Day of Service at the Food Bank in Athens!\nWe’ll share a light breakfast\, walk-through the Food Bank for a tour\, and then work together on a fun\, family-friendly volunteer activity. \nRegister below to join us!
URL:https://foodbanknega.org/event/family-day-fall-2025/
LOCATION:Food Bank of Northeast Georgia\, 890 Newton Bridge Rd\, Athens\, GA\, 30601\, United States
END:VEVENT
BEGIN:VEVENT
DTSTART;TZID=America/New_York:20250909T083000
DTEND;TZID=America/New_York:20250909T100000
DTSTAMP:20260419T124042
CREATED:20250521T145359Z
LAST-MODIFIED:20250825T154913Z
UID:10000008-1757406600-1757412000@foodbanknega.org
SUMMARY:Nourishing Neighbors - Neighbor Survey Results: A Community Breakfast
DESCRIPTION:This event is SOLD OUT. Keep an eye out for 2025 Neighbor Survey findings here on our website and across our social media channels.
URL:https://foodbanknega.org/event/nourishing-neighbors-neighbor-survey-results-a-community-breakfast/
LOCATION:Food Bank of Northeast Georgia\, 890 Newton Bridge Rd\, Athens\, GA\, 30601\, United States
END:VEVENT
BEGIN:VEVENT
DTSTART;TZID=America/New_York:20250220T113000
DTEND;TZID=America/New_York:20250220T133000
DTSTAMP:20260419T124042
CREATED:20241204T170843Z
LAST-MODIFIED:20241204T201712Z
UID:10000006-1740051000-1740058200@foodbanknega.org
SUMMARY:Empty Bowl 2025
DESCRIPTION:
URL:https://foodbanknega.org/event/empty-bowl-2025/
LOCATION:The Classic Center\, 300 N. Thomas Street\, Athens\, GA\, 30601\, United States
END:VEVENT
END:VCALENDAR